BEGIN:VCALENDAR
VERSION:2.0
PRODID:-//Master Your Drone - ECPv6.15.20//NONSGML v1.0//EN
CALSCALE:GREGORIAN
METHOD:PUBLISH
X-ORIGINAL-URL:https://masteryourdrone.com
X-WR-CALDESC:Events for Master Your Drone
REFRESH-INTERVAL;VALUE=DURATION:PT1H
X-Robots-Tag:noindex
X-PUBLISHED-TTL:PT1H
BEGIN:VTIMEZONE
TZID:UTC
BEGIN:STANDARD
TZOFFSETFROM:+0000
TZOFFSETTO:+0000
TZNAME:UTC
DTSTART:20250101T000000
END:STANDARD
END:VTIMEZONE
BEGIN:VEVENT
DTSTART;TZID=UTC:20260420T090000
DTEND;TZID=UTC:20260423T150000
DTSTAMP:20260424T154345
CREATED:20260213T054604Z
LAST-MODIFIED:20260214T154747Z
UID:2115-1776675600-1776956400@masteryourdrone.com
SUMMARY:MYD FAA Remote Pilot Certification Test Prep Masterclass
DESCRIPTION:The FAA Drone certification is a game changer!  \n3 Day Live Online via Zoom \nOur MYD graduates of all ages are taking their aerial photography and video to the next level once they pass their FAA test.  You will be so proud of yourself for accomplishing this FAA Certification \nLive Online\, instructor led class teaching the major components of the FAA Part 107 Airmen Knowledge test. Learn from certified drone pilots that are flying drones safely for commercial & hobby use daily. Includes a membership into MYD private FB study group for on going support. Top flight Apps for safe and informative operations. Spotlight speakers pop in to give our students insider info from the Pros! \nSign up Today! \n“I passed my Part 107 exam with a whopping 93% (only 4 wrong!) thanks to the training I received from the Prep Course with Master Your Drone. The way the instructors break down and teach the lessons was very helpful in understanding the pertinent material on the exam. I scheduled my exam for the same week that my course ended to be sure I took it while everything was still fresh in my brain. I felt very confident going in thanks to this course.”           -S. Hale\, FAA Certified Drone Pilot \nMaster Your Drone and Kim Players are AMAZING!!  Taking the Part 107 course was truly an accomplishment.  The instructors made me feel like I can accomplish anything!!  That test was hard\, but I worked harder\, and nailed it with a 93%!”    – K. Kooker\, FAA Certified Remote Pilot
URL:https://masteryourdrone.com/event/myd-faa-remote-pilot-certification-test-prep-masterclass-2/
ATTACH;FMTTYPE=image/webp:https://masteryourdrone.com/wp-content/uploads/2026/02/img_3788-scaled.webp
ORGANIZER;CN="Master Your Drone":MAILTO:kim@masteryourdrone.com
END:VEVENT
BEGIN:VEVENT
DTSTART;TZID=UTC:20260316T090000
DTEND;TZID=UTC:20260319T150000
DTSTAMP:20260424T154345
CREATED:20260211T095434Z
LAST-MODIFIED:20260214T154752Z
UID:2102-1773651600-1773932400@masteryourdrone.com
SUMMARY:MYD FAA Remote Pilot Certification Test Prep Masterclass
DESCRIPTION:The FAA Drone certification is a game changer!  \n3 Day Live Online via Zoom \nOur MYD graduates of all ages are taking their aerial photography and video to the next level once they pass their FAA test.  You will be so proud of yourself for accomplishing this FAA Certification \nLive Online\, instructor led class teaching the major components of the FAA Part 107 Airmen Knowledge test. Learn from certified drone pilots that are flying drones safely for commercial & hobby use daily. Includes a membership into MYD private FB study group for on going support. Top flight Apps for safe and informative operations. Spotlight speakers pop in to give our students insider info from the Pros! \nSign up Today! \n“I passed my Part 107 exam with a whopping 93% (only 4 wrong!) thanks to the training I received from the Prep Course with Master Your Drone. The way the instructors break down and teach the lessons was very helpful in understanding the pertinent material on the exam. I scheduled my exam for the same week that my course ended to be sure I took it while everything was still fresh in my brain. I felt very confident going in thanks to this course.”           -S. Hale\, FAA Certified Drone Pilot \nMaster Your Drone and Kim Players are AMAZING!!  Taking the Part 107 course was truly an accomplishment.  The instructors made me feel like I can accomplish anything!!  That test was hard\, but I worked harder\, and nailed it with a 93%!”    – K. Kooker\, FAA Certified Remote Pilot
URL:https://masteryourdrone.com/event/myd-faa-remote-pilot-certification-test-prep-masterclass/
ATTACH;FMTTYPE=image/webp:https://masteryourdrone.com/wp-content/uploads/2026/02/img_3786-scaled.webp
ORGANIZER;CN="Master Your Drone":MAILTO:kim@masteryourdrone.com
END:VEVENT
END:VCALENDAR